BEGIN:VCALENDAR
VERSION:2.0
PRODID:-//eventon.com NONSGML v1.0//EN
CALSCALE:GREGORIAN
METHOD:PUBLISH
BEGIN:VEVENT
UID:69e73a79cae09
DTSTAMP:20260421T085105Z
DTSTART:20220509T160000Z
DTEND:20220509T180000Z
LOCATION:Turnhalle Fellergut
SUMMARY:Training-B-Kader (U16-Elite)
DESCRIPTION:Training-B-Kader (U16-Elite)\nhttps://www.sac-regionalzentrum-b
 ern.ch/events/training-b-kader-u16-elite-13/
URL:https://www.sac-regionalzentrum-bern.ch/events/training-b-kader-u16-elite-13/
END:VEVENT
END:VCALENDAR