BEGIN:VCALENDAR
VERSION:2.0
PRODID:-//eventon.com NONSGML v1.0//EN
CALSCALE:GREGORIAN
METHOD:PUBLISH
BEGIN:VEVENT
UID:69e8452183037
DTSTAMP:20260422T034849Z
DTSTART:20230308T120000Z
DTEND:20230308T163000Z
LOCATION:L`Entrepôt
SUMMARY:Training-A-Kader
DESCRIPTION:Treffpunkt um 13:00 beim Kurzparking Bern Bahnhof. Gemeinsame A
 n- und Rückreise nach/von Bulle mit dem Auto. Zurück in Bern um 17:30.\nh
 ttps://www.sac-regionalzentrum-bern.ch/events/training-a-kader-142/
URL:https://www.sac-regionalzentrum-bern.ch/events/training-a-kader-142/
END:VEVENT
END:VCALENDAR