BEGIN:VCALENDAR
VERSION:2.0
PRODID:-//eventon.com NONSGML v1.0//EN
CALSCALE:GREGORIAN
METHOD:PUBLISH
BEGIN:VEVENT
UID:69e8eeb5699d7
DTSTAMP:20260422T155221Z
DTSTART:20230503T150000Z
DTEND:20230503T170000Z
LOCATION:Bimano
SUMMARY:Training-C-Kader (Gruppe 2)
DESCRIPTION:Training-C-Kader (Gruppe 2)\nhttps://www.sac-regionalzentrum-be
 rn.ch/events/training-c-kader-gruppe-2-86/
URL:https://www.sac-regionalzentrum-bern.ch/events/training-c-kader-gruppe-2-86/
END:VEVENT
END:VCALENDAR