BEGIN:VCALENDAR
VERSION:2.0
PRODID:-//eventon.com NONSGML v1.0//EN
CALSCALE:GREGORIAN
METHOD:PUBLISH
BEGIN:VEVENT
UID:69ea9e1b8e5cb
DTSTAMP:20260423T223259Z
DTSTART:20231211T170000Z
DTEND:20231211T190000Z
LOCATION:Turnhalle Fellergut
SUMMARY:Training-B-Kader (U16II - Elite)
DESCRIPTION:15â€™ | Warmup mit Spiel 05â€™ | Mobilisieren 25â€™ | SchulterÃ
 ¼bungen Maria (vorne\,  seitlich\,  hinten) je 3 x 10 Wh. (sie kennen die Ã
 œbungen)\,  2:00 P. Sprungkraft in den Pausen 45â€™ | Stationen Kraftaufbau
  / Beweglichkeit aktiv in Pause (https://www.dropbox.com/s/8w9xkmjtsm906zd/
 Handout%20Beweglichkeit%20aktiv%20der%20H%C3%BCfte%20von%20Physio8a.pdf?dl=
 0) 8 Wh. / 3 S. / 2:30 P. Klimmzug mit[..]\nhttps://www.sac-regionalzentrum
 -bern.ch/events/training-b-kader-u16ii-elite-33/
URL:https://www.sac-regionalzentrum-bern.ch/events/training-b-kader-u16ii-elite-33/
END:VEVENT
END:VCALENDAR