BEGIN:VCALENDAR
VERSION:2.0
PRODID:-//eventon.com NONSGML v1.0//EN
CALSCALE:GREGORIAN
METHOD:PUBLISH
BEGIN:VEVENT
UID:69eb3d9766094
DTSTAMP:20260424T095327Z
DTSTART:20230602T160000Z
DTEND:20230602T190000Z
LOCATION:Bimano
SUMMARY:Training-B-Kader
DESCRIPTION:Programm: 05’ | 18:05 | Trainingsplan studieren 25’ | 18:30
  |  Warmup Kurzes Jogging draussen Box jumps draussen Theraband 150 einfac
 he Kletterzüge Stabilisationsübungen für Körperspannung 30’ | 19:00 |
  Maximalkraft 4-5 Wh. einzeln schnell / 3 S. pro Übung Liegestütz mit kla
 tschen Klimmzug mit Klatschen (allenfalls mit Unterstützung Gummiband) Squ
 at[..]\nhttps://www.sac-regionalzentrum-bern.ch/events/training-b-kader-139
 /
URL:https://www.sac-regionalzentrum-bern.ch/events/training-b-kader-139/
END:VEVENT
END:VCALENDAR