BEGIN:VCALENDAR
VERSION:2.0
PRODID:-//eventon.com NONSGML v1.0//EN
CALSCALE:GREGORIAN
METHOD:PUBLISH
BEGIN:VEVENT
UID:69e6c75271d0d
DTSTAMP:20260421T003946Z
DTSTART:20230901T160000Z
DTEND:20230901T190000Z
LOCATION:O'Bloc
SUMMARY:Training-B-Kader
DESCRIPTION:Training-B-Kader\nhttps://www.sac-regionalzentrum-bern.ch/event
 s/training-b-kader-148/
URL:https://www.sac-regionalzentrum-bern.ch/events/training-b-kader-148/
END:VEVENT
END:VCALENDAR