BEGIN:VCALENDAR
VERSION:2.0
PRODID:-//eventon.com NONSGML v1.0//EN
CALSCALE:GREGORIAN
METHOD:PUBLISH
BEGIN:VEVENT
UID:69ed4b8bbcaef
DTSTAMP:20260425T231731Z
DTSTART:20231104T050000Z
DTEND:20231104T080000Z
LOCATION:O'Bloc
SUMMARY:Training-B-Kader
DESCRIPTION:Programm: 10’ | 18:10 | Begrüssung und Programm 20’ | 18:3
 0 | Warmup draussen Gruppe 1 (Oona\,  Anika\,  Nicolas\,  Bastian) 45’ | 
 19:15 | Input Andrea 15’ | 19:30 | Warmup an Griffen 30’ | 20:00 | Boul
 der-Play → Dynamo- und Platten-Challenges 30’ | 20:30 | 2-3 Boulder je 
 5x[..]\nhttps://www.sac-regionalzentrum-bern.ch/events/training-b-kader-155
 /
URL:https://www.sac-regionalzentrum-bern.ch/events/training-b-kader-155/
END:VEVENT
END:VCALENDAR