BEGIN:VCALENDAR
VERSION:2.0
PRODID:-//eventon.com NONSGML v1.0//EN
CALSCALE:GREGORIAN
METHOD:PUBLISH
BEGIN:VEVENT
UID:69eb2ad71af88
DTSTAMP:20260424T083327Z
DTSTART:20230715
DTEND:20230716
LOCATION:Villeneuve
SUMMARY:SCC Villeneuve / U18-Elite / Speed
DESCRIPTION:An- und Rückreise Die An- und Rückreise selbst organisieren. 
 Jael und Remo sind bereits mit den U14 und U16 vor Ort für den Lead Youth 
 Climbing Cup. Wettkampf-Programm\nhttps://www.sac-regionalzentrum-bern.ch/e
 vents/scc-villeneuve-u18-elite-speed/
URL:https://www.sac-regionalzentrum-bern.ch/events/scc-villeneuve-u18-elite-speed/
END:VEVENT
END:VCALENDAR